BEGIN:VCALENDAR
VERSION:2.0
PRODID:-//www.dsaa.info//NONSGML kigkonsult.se iCalcreator 2.30.10//
CALSCALE:GREGORIAN
METHOD:PUBLISH
UID:cf81ffac-0e92-4ef8-adf1-5351525a8f09
X-WR-CALDESC:
X-WR-RELCALID:2208875eee74adecdf8da00d966ab1ae
X-WR-TIMEZONE:America/Chicago
BEGIN:VTIMEZONE
TZID:America/Chicago
BEGIN:STANDARD
TZNAME:CST
DTSTART:20221106T020000
TZOFFSETFROM:-0500
TZOFFSETTO:-0600
RDATE:20231105T020000
END:STANDARD
BEGIN:DAYLIGHT
TZNAME:CDT
DTSTART:20230312T020000
TZOFFSETFROM:-0600
TZOFFSETTO:-0500
RDATE:20240310T020000
END:DAYLIGHT
END:VTIMEZONE
BEGIN:VEVENT
UID:d5fc9f8d-a399-4fe0-9bb9-30a7cd9cca98
DTSTAMP:20260422T204138Z
DESCRIPTION:
DTSTART;TZID=America/Chicago:20230318T073000
DTEND;TZID=America/Chicago:20230318T150000
LOCATION:21327 Chestnut Road\, Kaplan\, LA 70548 US
SUMMARY:Shoot for the Stars Sporting Clay Shoot
END:VEVENT
END:VCALENDAR
